BEGIN:VCALENDAR
VERSION:2.0
PRODID:-//Wild Life Ranch - ECPv6.15.17.1//NONSGML v1.0//EN
CALSCALE:GREGORIAN
METHOD:PUBLISH
X-ORIGINAL-URL:https://wildliferanch.co
X-WR-CALDESC:Events for Wild Life Ranch
REFRESH-INTERVAL;VALUE=DURATION:PT1H
X-Robots-Tag:noindex
X-PUBLISHED-TTL:PT1H
BEGIN:VTIMEZONE
TZID:America/Denver
BEGIN:DAYLIGHT
TZOFFSETFROM:-0700
TZOFFSETTO:-0600
TZNAME:MDT
DTSTART:20250309T090000
END:DAYLIGHT
BEGIN:STANDARD
TZOFFSETFROM:-0600
TZOFFSETTO:-0700
TZNAME:MST
DTSTART:20251102T080000
END:STANDARD
BEGIN:DAYLIGHT
TZOFFSETFROM:-0700
TZOFFSETTO:-0600
TZNAME:MDT
DTSTART:20260308T090000
END:DAYLIGHT
BEGIN:STANDARD
TZOFFSETFROM:-0600
TZOFFSETTO:-0700
TZNAME:MST
DTSTART:20261101T080000
END:STANDARD
BEGIN:DAYLIGHT
TZOFFSETFROM:-0700
TZOFFSETTO:-0600
TZNAME:MDT
DTSTART:20270314T090000
END:DAYLIGHT
BEGIN:STANDARD
TZOFFSETFROM:-0600
TZOFFSETTO:-0700
TZNAME:MST
DTSTART:20271107T080000
END:STANDARD
END:VTIMEZONE
BEGIN:VEVENT
DTSTART;TZID=America/Denver:20260418T160000
DTEND;TZID=America/Denver:20260418T170000
DTSTAMP:20260423T171442
CREATED:20260309T171608Z
LAST-MODIFIED:20260411T015953Z
UID:2000-1776528000-1776531600@wildliferanch.co
SUMMARY:Virtual Information Session 4-18-2026
DESCRIPTION:We’re hosting a virtual session to present the current status of Wild Life Ranch and describe what it will mean to become a member!  All questions will be welcome.  Please RSVP and a zoom link will be sent in your confirmation.
URL:https://wildliferanch.co/event/virtual-information-session-4-18-2026/
LOCATION:Virtual via Zoom\, Virtual
END:VEVENT
END:VCALENDAR